BEGIN:VCALENDAR
VERSION:2.0
PRODID:-//  - ECPv5.5.0.1//NONSGML v1.0//EN
CALSCALE:GREGORIAN
METHOD:PUBLISH
X-WR-CALNAME: 
X-ORIGINAL-URL:http://ycl.lu
X-WR-CALDESC:évènements pour  
BEGIN:VTIMEZONE
TZID:Europe/Luxembourg
BEGIN:DAYLIGHT
TZOFFSETFROM:+0100
TZOFFSETTO:+0200
TZNAME:CEST
DTSTART:20210328T010000
END:DAYLIGHT
BEGIN:STANDARD
TZOFFSETFROM:+0200
TZOFFSETTO:+0100
TZNAME:CET
DTSTART:20211031T010000
END:STANDARD
END:VTIMEZONE
BEGIN:VEVENT
DTSTART;TZID=Europe/Luxembourg:20210605T060000
DTEND;TZID=Europe/Luxembourg:20210605T150000
DTSTAMP:20210426T090831
CREATED:20210413T195512Z
LAST-MODIFIED:20210415T072539Z
UID:3175-1622872800-1622905200@ycl.lu
SUMMARY:Certificat de capacité A
DESCRIPTION:Certificat de Capacité A- Eaux intérieures \némis par la Fédération Luxembourgeoise de Voile (FLV)  \nLe „A-Schäin“ (Certificat de capacité A) est un permis de voile qui s’apprend sur nos dériveurs solitaires et / ou en équipage. Le certificat vise l’enseignement de la théorie et la pratique de la voile\, comprenant la terminologie\, des manœuvres de base\, des nœuds\, la sécurité nautique\, etc.). La présentation à l’examen théorique et pratique est obligatoire pour l’obtention du certificat qui fait preuve\, d’avoir acquis le niveau d’un barreur compétent.
URL:http://ycl.lu/event/certificat-de-capacite-a-5/
LOCATION:Base nautique Liefrange\, Leifreg Plage\, Liefrange\, 9665\, Luxembourg
CATEGORIES:Permis A
ORGANIZER;CN="Alex%20Blinkhorn":MAILTO:blinkhorn@gmx.net
END:VEVENT
END:VCALENDAR