BEGIN:VCALENDAR
VERSION:2.0
PRODID:-// - ECPv5.9.1//NONSGML v1.0//EN
CALSCALE:GREGORIAN
METHOD:PUBLISH
X-ORIGINAL-URL:https://ycl.lu
X-WR-CALDESC:évènements pour 
BEGIN:VTIMEZONE
TZID:Europe/Paris
BEGIN:DAYLIGHT
TZOFFSETFROM:+0100
TZOFFSETTO:+0200
TZNAME:CEST
DTSTART:20210328T010000
END:DAYLIGHT
BEGIN:STANDARD
TZOFFSETFROM:+0200
TZOFFSETTO:+0100
TZNAME:CET
DTSTART:20211031T010000
END:STANDARD
END:VTIMEZONE
BEGIN:VEVENT
DTSTART;TZID=Europe/Paris:20210911T140000
DTEND;TZID=Europe/Paris:20210912T190000
DTSTAMP:20211010T101107
CREATED:20210308T150244Z
LAST-MODIFIED:20210413T192457Z
UID:2818-1631368800-1631473200@ycl.lu
SUMMARY:Régate 5/6 Coupe d’Automne
DESCRIPTION:Avis Important :\n Toutes les régates sont régies par le règlement de course FLV 2017/21.  \nLa détention d’une licence valable FLV est obligatoire. (ATTENTION au Circulaire 01/21 dans le contexte de la pandémie COVID-19\, www.flv.lu) \nL’assurance responsabilité civile pour dériveurs incluant les compétitions est obligatoire.  \n Obligation d’immatriculation ou d’identification : \n II est interdit à tout ressortissant luxembourgeois ou toute personne résidant au Grand-Duché de Luxembourg de conduire un bâtiment de plaisance qui ne soit pas régulièrement immatriculé ou identifié. (Article 13 de la loi du 23 septembre 1997 portant réglementation de la navigation de plaisance …)
URL:https://ycl.lu/event/regate-5-6-coupe-dautomne/
LOCATION:Base nautique Liefrange\, Leifreg Plage\, Liefrange\, 9665\, Luxembourg
CATEGORIES:Régate
ORGANIZER;CN="Serge%20Harles":MAILTO:serge.harles@pt.lu
END:VEVENT
BEGIN:VEVENT
DTSTART;TZID=Europe/Paris:20210925T110000
DTEND;TZID=Europe/Paris:20210925T210000
DTSTAMP:20211010T101107
CREATED:20210308T150534Z
LAST-MODIFIED:20210413T191744Z
UID:2822-1632567600-1632603600@ycl.lu
SUMMARY:Régate 6/6 Final Race
DESCRIPTION:(champ. 2021 – toutes séries)\n\nFinale du championnat 2021 avec remise des prix et dîner de clôture\n\n\n  \nAvis Important :\n Toutes les régates sont régies par le règlement de course FLV 2017/21.  \nLa détention d’une licence valable FLV est obligatoire. (ATTENTION au Circulaire 01/21 dans le contexte de la pandémie COVID-19\, www.flv.lu) \nL’assurance responsabilité civile pour dériveurs incluant les compétitions est obligatoire.  \n Obligation d’immatriculation ou d’identification : \n II est interdit à tout ressortissant luxembourgeois ou toute personne résidant au Grand-Duché de Luxembourg de conduire un bâtiment de plaisance qui ne soit pas régulièrement immatriculé ou identifié. (Article 13 de la loi du 23 septembre 1997 portant réglementation de la navigation de plaisance …)
URL:https://ycl.lu/event/regate-6-6-final-race/
LOCATION:Base nautique Liefrange\, Leifreg Plage\, Liefrange\, 9665\, Luxembourg
CATEGORIES:Régate
ORGANIZER;CN="Serge%20Harles":MAILTO:serge.harles@pt.lu
END:VEVENT
END:VCALENDAR